BEGIN:VCALENDAR
VERSION:2.0
CALSCALE:GREGORIAN
PRODID:UnionActive
BEGIN:VEVENT
UID:11839332@ibew2.org
SUMMARY:Tri-County Electric Cooperative Unit Meeting
DESCRIPTION:Contact:  \nLink for more information: http://ibew2.org/index.cfm?zone=/unionactive/view_calendar.cfm&calendarID=11839332&thisdate=01/13/2033&useCalSection=main
LOCATION:
URL:http://ibew2.org/index.cfm?zone=/unionactive/view_calendar.cfm&calendarID=11839332&thisdate=01/13/2033&useCalSection=main
DTSTART:20330113T223000Z
DTEND:20330113T223000Z
DTSTAMP:20260419T183458
TRIGGER:-PT60M
END:VEVENT
END:VCALENDAR
