BEGIN:VCALENDAR
VERSION:2.0
CALSCALE:GREGORIAN
PRODID:UnionActive
BEGIN:VEVENT
UID:11839325@ibew2.org
SUMMARY:Tri-County Electric Cooperative Unit Meeting
DESCRIPTION:Contact:  \nLink for more information: http://ibew2.org/index.cfm?zone=/unionactive/view_calendar.cfm&calendarID=11839325&thisdate=11/13/2031&useCalSection=main
LOCATION:
URL:http://ibew2.org/index.cfm?zone=/unionactive/view_calendar.cfm&calendarID=11839325&thisdate=11/13/2031&useCalSection=main
DTSTART:20311113T223000Z
DTEND:20311113T223000Z
DTSTAMP:20260419T184245
TRIGGER:-PT60M
END:VEVENT
END:VCALENDAR
