BEGIN:VCALENDAR
VERSION:2.0
CALSCALE:GREGORIAN
PRODID:UnionActive
BEGIN:VEVENT
UID:11839311@ibew2.org
SUMMARY:Tri-County Electric Cooperative Unit Meeting
DESCRIPTION:Contact:  \nLink for more information: http://ibew2.org/index.cfm?zone=/unionactive/view_calendar.cfm&calendarID=11839311&thisdate=07/12/2029&useCalSection=main
LOCATION:
URL:http://ibew2.org/index.cfm?zone=/unionactive/view_calendar.cfm&calendarID=11839311&thisdate=07/12/2029&useCalSection=main
DTSTART:20290712T213000Z
DTEND:20290712T213000Z
DTSTAMP:20260419T151439
TRIGGER:-PT60M
END:VEVENT
END:VCALENDAR
