BEGIN:VCALENDAR
VERSION:2.0
CALSCALE:GREGORIAN
PRODID:UnionActive
BEGIN:VEVENT
UID:11839300@ibew2.org
SUMMARY:Tri-County Electric Cooperative Unit Meeting
DESCRIPTION:Contact:  \nLink for more information: http://ibew2.org/index.cfm?zone=/unionactive/view_calendar.cfm&calendarID=11839300&thisdate=09/09/2027&useCalSection=main
LOCATION:
URL:http://ibew2.org/index.cfm?zone=/unionactive/view_calendar.cfm&calendarID=11839300&thisdate=09/09/2027&useCalSection=main
DTSTART:20270909T213000Z
DTEND:20270909T213000Z
DTSTAMP:20260419T202205
TRIGGER:-PT60M
END:VEVENT
END:VCALENDAR
