BEGIN:VCALENDAR
VERSION:2.0
CALSCALE:GREGORIAN
PRODID:UnionActive
BEGIN:VEVENT
UID:11839284@ibew2.org
SUMMARY:Tri-County Electric Cooperative Unit Meeting
DESCRIPTION:Contact:  \nLink for more information: http://ibew2.org/index.cfm?zone=/unionactive/view_calendar.cfm&calendarID=11839284&thisdate=01/09/2025&useCalSection=main
LOCATION:
URL:http://ibew2.org/index.cfm?zone=/unionactive/view_calendar.cfm&calendarID=11839284&thisdate=01/09/2025&useCalSection=main
DTSTART:20250109T223000Z
DTEND:20250109T223000Z
DTSTAMP:20260419T152159
TRIGGER:-PT60M
END:VEVENT
END:VCALENDAR
