BEGIN:VCALENDAR
VERSION:2.0
CALSCALE:GREGORIAN
PRODID:UnionActive
BEGIN:VEVENT
UID:11839253@ibew2.org
SUMMARY:Howard Electric Cooperative Unit Meeting
DESCRIPTION:Contact:  \nLink for more information: http://ibew2.org/index.cfm?zone=/unionactive/view_calendar.cfm&calendarID=11839253&thisdate=11/09/2044&useCalSection=main
LOCATION:
URL:http://ibew2.org/index.cfm?zone=/unionactive/view_calendar.cfm&calendarID=11839253&thisdate=11/09/2044&useCalSection=main
DTSTART:20441109T223000Z
DTEND:20441109T223000Z
DTSTAMP:20260419T114636
TRIGGER:-PT60M
END:VEVENT
END:VCALENDAR
