BEGIN:VCALENDAR
VERSION:2.0
CALSCALE:GREGORIAN
PRODID:UnionActive
BEGIN:VEVENT
UID:11839213@ibew2.org
SUMMARY:Howard Electric Cooperative Unit Meeting
DESCRIPTION:Contact:  \nLink for more information: http://ibew2.org/index.cfm?zone=/unionactive/view_calendar.cfm&calendarID=11839213&thisdate=03/10/2038&useCalSection=main
LOCATION:
URL:http://ibew2.org/index.cfm?zone=/unionactive/view_calendar.cfm&calendarID=11839213&thisdate=03/10/2038&useCalSection=main
DTSTART:20380310T223000Z
DTEND:20380310T223000Z
DTSTAMP:20260419T202108
TRIGGER:-PT60M
END:VEVENT
END:VCALENDAR
