BEGIN:VCALENDAR
VERSION:2.0
CALSCALE:GREGORIAN
PRODID:UnionActive
BEGIN:VEVENT
UID:11839211@ibew2.org
SUMMARY:Howard Electric Cooperative Unit Meeting
DESCRIPTION:Contact:  \nLink for more information: http://ibew2.org/index.cfm?zone=/unionactive/view_calendar.cfm&calendarID=11839211&thisdate=11/11/2037&useCalSection=main
LOCATION:
URL:http://ibew2.org/index.cfm?zone=/unionactive/view_calendar.cfm&calendarID=11839211&thisdate=11/11/2037&useCalSection=main
DTSTART:20371111T223000Z
DTEND:20371111T223000Z
DTSTAMP:20260419T082839
TRIGGER:-PT60M
END:VEVENT
END:VCALENDAR
