BEGIN:VCALENDAR
VERSION:2.0
CALSCALE:GREGORIAN
PRODID:UnionActive
BEGIN:VEVENT
UID:11839202@ibew2.org
SUMMARY:Howard Electric Cooperative Unit Meeting
DESCRIPTION:Contact:  \nLink for more information: http://ibew2.org/index.cfm?zone=/unionactive/view_calendar.cfm&calendarID=11839202&thisdate=05/14/2036&useCalSection=main
LOCATION:
URL:http://ibew2.org/index.cfm?zone=/unionactive/view_calendar.cfm&calendarID=11839202&thisdate=05/14/2036&useCalSection=main
DTSTART:20360514T213000Z
DTEND:20360514T213000Z
DTSTAMP:20260419T200718
TRIGGER:-PT60M
END:VEVENT
END:VCALENDAR
