BEGIN:VCALENDAR
VERSION:2.0
CALSCALE:GREGORIAN
PRODID:UnionActive
BEGIN:VEVENT
UID:11839193@ibew2.org
SUMMARY:Howard Electric Cooperative Unit Meeting
DESCRIPTION:Contact:  \nLink for more information: http://ibew2.org/index.cfm?zone=/unionactive/view_calendar.cfm&calendarID=11839193&thisdate=11/08/2034&useCalSection=main
LOCATION:
URL:http://ibew2.org/index.cfm?zone=/unionactive/view_calendar.cfm&calendarID=11839193&thisdate=11/08/2034&useCalSection=main
DTSTART:20341108T223000Z
DTEND:20341108T223000Z
DTSTAMP:20260419T164830
TRIGGER:-PT60M
END:VEVENT
END:VCALENDAR
