BEGIN:VCALENDAR
VERSION:2.0
CALSCALE:GREGORIAN
PRODID:UnionActive
BEGIN:VEVENT
UID:11839183@ibew2.org
SUMMARY:Howard Electric Cooperative Unit Meeting
DESCRIPTION:Contact:  \nLink for more information: http://ibew2.org/index.cfm?zone=/unionactive/view_calendar.cfm&calendarID=11839183&thisdate=03/09/2033&useCalSection=main
LOCATION:
URL:http://ibew2.org/index.cfm?zone=/unionactive/view_calendar.cfm&calendarID=11839183&thisdate=03/09/2033&useCalSection=main
DTSTART:20330309T223000Z
DTEND:20330309T223000Z
DTSTAMP:20260419T164757
TRIGGER:-PT60M
END:VEVENT
END:VCALENDAR
