BEGIN:VCALENDAR
VERSION:2.0
CALSCALE:GREGORIAN
PRODID:UnionActive
BEGIN:VEVENT
UID:11839143@ibew2.org
SUMMARY:Howard Electric Cooperative Unit Meeting
DESCRIPTION:Contact:  \nLink for more information: http://ibew2.org/index.cfm?zone=/unionactive/view_calendar.cfm&calendarID=11839143&thisdate=07/08/2026&useCalSection=main
LOCATION:
URL:http://ibew2.org/index.cfm?zone=/unionactive/view_calendar.cfm&calendarID=11839143&thisdate=07/08/2026&useCalSection=main
DTSTART:20260708T213000Z
DTEND:20260708T213000Z
DTSTAMP:20260419T214609
TRIGGER:-PT60M
END:VEVENT
END:VCALENDAR
