BEGIN:VCALENDAR
VERSION:2.0
CALSCALE:GREGORIAN
PRODID:UnionActive
BEGIN:VEVENT
UID:11839103@ibew2.org
SUMMARY:Citizens Electric Corporation Unit Meeting
DESCRIPTION:Contact:  \nLink for more information: http://ibew2.org/index.cfm?zone=/unionactive/view_calendar.cfm&calendarID=11839103&thisdate=10/27/2044&useCalSection=main
LOCATION:
URL:http://ibew2.org/index.cfm?zone=/unionactive/view_calendar.cfm&calendarID=11839103&thisdate=10/27/2044&useCalSection=main
DTSTART:20441027T210000Z
DTEND:20441027T210000Z
DTSTAMP:20260419T164747
TRIGGER:-PT60M
END:VEVENT
END:VCALENDAR
