BEGIN:VCALENDAR
VERSION:2.0
CALSCALE:GREGORIAN
PRODID:UnionActive
BEGIN:VEVENT
UID:11839096@ibew2.org
SUMMARY:Citizens Electric Corporation Unit Meeting
DESCRIPTION:Contact:  \nLink for more information: http://ibew2.org/index.cfm?zone=/unionactive/view_calendar.cfm&calendarID=11839096&thisdate=08/27/2043&useCalSection=main
LOCATION:
URL:http://ibew2.org/index.cfm?zone=/unionactive/view_calendar.cfm&calendarID=11839096&thisdate=08/27/2043&useCalSection=main
DTSTART:20430827T210000Z
DTEND:20430827T210000Z
DTSTAMP:20260419T083032
TRIGGER:-PT60M
END:VEVENT
END:VCALENDAR
