BEGIN:VCALENDAR
VERSION:2.0
CALSCALE:GREGORIAN
PRODID:UnionActive
BEGIN:VEVENT
UID:11839092@ibew2.org
SUMMARY:Citizens Electric Corporation Unit Meeting
DESCRIPTION:Contact:  \nLink for more information: http://ibew2.org/index.cfm?zone=/unionactive/view_calendar.cfm&calendarID=11839092&thisdate=12/25/2042&useCalSection=main
LOCATION:
URL:http://ibew2.org/index.cfm?zone=/unionactive/view_calendar.cfm&calendarID=11839092&thisdate=12/25/2042&useCalSection=main
DTSTART:20421225T220000Z
DTEND:20421225T220000Z
DTSTAMP:20260419T214645
TRIGGER:-PT60M
END:VEVENT
END:VCALENDAR
