BEGIN:VCALENDAR
VERSION:2.0
CALSCALE:GREGORIAN
PRODID:UnionActive
BEGIN:VEVENT
UID:11839083@ibew2.org
SUMMARY:Citizens Electric Corporation Unit Meeting
DESCRIPTION:Contact:  \nLink for more information: http://ibew2.org/index.cfm?zone=/unionactive/view_calendar.cfm&calendarID=11839083&thisdate=06/27/2041&useCalSection=main
LOCATION:
URL:http://ibew2.org/index.cfm?zone=/unionactive/view_calendar.cfm&calendarID=11839083&thisdate=06/27/2041&useCalSection=main
DTSTART:20410627T210000Z
DTEND:20410627T210000Z
DTSTAMP:20260419T064818
TRIGGER:-PT60M
END:VEVENT
END:VCALENDAR
