BEGIN:VCALENDAR
VERSION:2.0
CALSCALE:GREGORIAN
PRODID:UnionActive
BEGIN:VEVENT
UID:11839081@ibew2.org
SUMMARY:Citizens Electric Corporation Unit Meeting
DESCRIPTION:Contact:  \nLink for more information: http://ibew2.org/index.cfm?zone=/unionactive/view_calendar.cfm&calendarID=11839081&thisdate=02/28/2041&useCalSection=main
LOCATION:
URL:http://ibew2.org/index.cfm?zone=/unionactive/view_calendar.cfm&calendarID=11839081&thisdate=02/28/2041&useCalSection=main
DTSTART:20410228T220000Z
DTEND:20410228T220000Z
DTSTAMP:20260419T184215
TRIGGER:-PT60M
END:VEVENT
END:VCALENDAR
