BEGIN:VCALENDAR
VERSION:2.0
CALSCALE:GREGORIAN
PRODID:UnionActive
BEGIN:VEVENT
UID:11839062@ibew2.org
SUMMARY:Citizens Electric Corporation Unit Meeting
DESCRIPTION:Contact:  \nLink for more information: http://ibew2.org/index.cfm?zone=/unionactive/view_calendar.cfm&calendarID=11839062&thisdate=12/24/2037&useCalSection=main
LOCATION:
URL:http://ibew2.org/index.cfm?zone=/unionactive/view_calendar.cfm&calendarID=11839062&thisdate=12/24/2037&useCalSection=main
DTSTART:20371224T220000Z
DTEND:20371224T220000Z
DTSTAMP:20260419T200755
TRIGGER:-PT60M
END:VEVENT
END:VCALENDAR
