BEGIN:VCALENDAR
VERSION:2.0
CALSCALE:GREGORIAN
PRODID:UnionActive
BEGIN:VEVENT
UID:11839057@ibew2.org
SUMMARY:Citizens Electric Corporation Unit Meeting
DESCRIPTION:Contact:  \nLink for more information: http://ibew2.org/index.cfm?zone=/unionactive/view_calendar.cfm&calendarID=11839057&thisdate=02/26/2037&useCalSection=main
LOCATION:
URL:http://ibew2.org/index.cfm?zone=/unionactive/view_calendar.cfm&calendarID=11839057&thisdate=02/26/2037&useCalSection=main
DTSTART:20370226T220000Z
DTEND:20370226T220000Z
DTSTAMP:20260419T183716
TRIGGER:-PT60M
END:VEVENT
END:VCALENDAR
