BEGIN:VCALENDAR
VERSION:2.0
CALSCALE:GREGORIAN
PRODID:UnionActive
BEGIN:VEVENT
UID:11839045@ibew2.org
SUMMARY:Citizens Electric Corporation Unit Meeting
DESCRIPTION:Contact:  \nLink for more information: http://ibew2.org/index.cfm?zone=/unionactive/view_calendar.cfm&calendarID=11839045&thisdate=02/22/2035&useCalSection=main
LOCATION:
URL:http://ibew2.org/index.cfm?zone=/unionactive/view_calendar.cfm&calendarID=11839045&thisdate=02/22/2035&useCalSection=main
DTSTART:20350222T220000Z
DTEND:20350222T220000Z
DTSTAMP:20260419T220410
TRIGGER:-PT60M
END:VEVENT
END:VCALENDAR
