BEGIN:VCALENDAR
VERSION:2.0
CALSCALE:GREGORIAN
PRODID:UnionActive
BEGIN:VEVENT
UID:11839033@ibew2.org
SUMMARY:Citizens Electric Corporation Unit Meeting
DESCRIPTION:Contact:  \nLink for more information: http://ibew2.org/index.cfm?zone=/unionactive/view_calendar.cfm&calendarID=11839033&thisdate=02/24/2033&useCalSection=main
LOCATION:
URL:http://ibew2.org/index.cfm?zone=/unionactive/view_calendar.cfm&calendarID=11839033&thisdate=02/24/2033&useCalSection=main
DTSTART:20330224T220000Z
DTEND:20330224T220000Z
DTSTAMP:20260419T234942
TRIGGER:-PT60M
END:VEVENT
END:VCALENDAR
