BEGIN:VCALENDAR
VERSION:2.0
CALSCALE:GREGORIAN
PRODID:UnionActive
BEGIN:VEVENT
UID:11838998@ibew2.org
SUMMARY:Citizens Electric Corporation Unit Meeting
DESCRIPTION:Contact:  \nLink for more information: http://ibew2.org/index.cfm?zone=/unionactive/view_calendar.cfm&calendarID=11838998&thisdate=04/22/2027&useCalSection=main
LOCATION:
URL:http://ibew2.org/index.cfm?zone=/unionactive/view_calendar.cfm&calendarID=11838998&thisdate=04/22/2027&useCalSection=main
DTSTART:20270422T210000Z
DTEND:20270422T210000Z
DTSTAMP:20260419T151510
TRIGGER:-PT60M
END:VEVENT
END:VCALENDAR
