BEGIN:VCALENDAR
VERSION:2.0
CALSCALE:GREGORIAN
PRODID:UnionActive
BEGIN:VEVENT
UID:11838977@ibew2.org
SUMMARY:Citizens Electric Corporation Unit Meeting
DESCRIPTION:Contact:  \nLink for more information: http://ibew2.org/index.cfm?zone=/unionactive/view_calendar.cfm&calendarID=11838977&thisdate=10/26/2023&useCalSection=main
LOCATION:
URL:http://ibew2.org/index.cfm?zone=/unionactive/view_calendar.cfm&calendarID=11838977&thisdate=10/26/2023&useCalSection=main
DTSTART:20231026T210000Z
DTEND:20231026T210000Z
DTSTAMP:20260419T164629
TRIGGER:-PT60M
END:VEVENT
END:VCALENDAR
