BEGIN:VCALENDAR
VERSION:2.0
CALSCALE:GREGORIAN
PRODID:UnionActive
BEGIN:VEVENT
UID:11838942@ibew2.org
SUMMARY:Crawford Electric Cooperative Unit Meeting
DESCRIPTION:Contact:  \nLink for more information: http://ibew2.org/index.cfm?zone=/unionactive/view_calendar.cfm&calendarID=11838942&thisdate=12/16/2042&useCalSection=main
LOCATION:
URL:http://ibew2.org/index.cfm?zone=/unionactive/view_calendar.cfm&calendarID=11838942&thisdate=12/16/2042&useCalSection=main
DTSTART:20421216T223000Z
DTEND:20421216T223000Z
DTSTAMP:20260419T201821
TRIGGER:-PT60M
END:VEVENT
END:VCALENDAR
