BEGIN:VCALENDAR
VERSION:2.0
CALSCALE:GREGORIAN
PRODID:UnionActive
BEGIN:VEVENT
UID:11838927@ibew2.org
SUMMARY:Crawford Electric Cooperative Unit Meeting
DESCRIPTION:Contact:  \nLink for more information: http://ibew2.org/index.cfm?zone=/unionactive/view_calendar.cfm&calendarID=11838927&thisdate=06/19/2040&useCalSection=main
LOCATION:
URL:http://ibew2.org/index.cfm?zone=/unionactive/view_calendar.cfm&calendarID=11838927&thisdate=06/19/2040&useCalSection=main
DTSTART:20400619T213000Z
DTEND:20400619T213000Z
DTSTAMP:20260419T151713
TRIGGER:-PT60M
END:VEVENT
END:VCALENDAR
