BEGIN:VCALENDAR
VERSION:2.0
CALSCALE:GREGORIAN
PRODID:UnionActive
BEGIN:VEVENT
UID:11838915@ibew2.org
SUMMARY:Crawford Electric Cooperative Unit Meeting
DESCRIPTION:Contact:  \nLink for more information: http://ibew2.org/index.cfm?zone=/unionactive/view_calendar.cfm&calendarID=11838915&thisdate=06/15/2038&useCalSection=main
LOCATION:
URL:http://ibew2.org/index.cfm?zone=/unionactive/view_calendar.cfm&calendarID=11838915&thisdate=06/15/2038&useCalSection=main
DTSTART:20380615T213000Z
DTEND:20380615T213000Z
DTSTAMP:20260419T170236
TRIGGER:-PT60M
END:VEVENT
END:VCALENDAR
