BEGIN:VCALENDAR
VERSION:2.0
CALSCALE:GREGORIAN
PRODID:UnionActive
BEGIN:VEVENT
UID:11838898@ibew2.org
SUMMARY:Crawford Electric Cooperative Unit Meeting
DESCRIPTION:Contact:  \nLink for more information: http://ibew2.org/index.cfm?zone=/unionactive/view_calendar.cfm&calendarID=11838898&thisdate=08/21/2035&useCalSection=main
LOCATION:
URL:http://ibew2.org/index.cfm?zone=/unionactive/view_calendar.cfm&calendarID=11838898&thisdate=08/21/2035&useCalSection=main
DTSTART:20350821T213000Z
DTEND:20350821T213000Z
DTSTAMP:20260419T184537
TRIGGER:-PT60M
END:VEVENT
END:VCALENDAR
