BEGIN:VCALENDAR
VERSION:2.0
CALSCALE:GREGORIAN
PRODID:UnionActive
BEGIN:VEVENT
UID:11838860@ibew2.org
SUMMARY:Crawford Electric Cooperative Unit Meeting
DESCRIPTION:Contact:  \nLink for more information: http://ibew2.org/index.cfm?zone=/unionactive/view_calendar.cfm&calendarID=11838860&thisdate=04/17/2029&useCalSection=main
LOCATION:
URL:http://ibew2.org/index.cfm?zone=/unionactive/view_calendar.cfm&calendarID=11838860&thisdate=04/17/2029&useCalSection=main
DTSTART:20290417T213000Z
DTEND:20290417T213000Z
DTSTAMP:20260419T133213
TRIGGER:-PT60M
END:VEVENT
END:VCALENDAR
