BEGIN:VCALENDAR
VERSION:2.0
CALSCALE:GREGORIAN
PRODID:UnionActive
BEGIN:VEVENT
UID:11838851@ibew2.org
SUMMARY:Crawford Electric Cooperative Unit Meeting
DESCRIPTION:Contact:  \nLink for more information: http://ibew2.org/index.cfm?zone=/unionactive/view_calendar.cfm&calendarID=11838851&thisdate=10/19/2027&useCalSection=main
LOCATION:
URL:http://ibew2.org/index.cfm?zone=/unionactive/view_calendar.cfm&calendarID=11838851&thisdate=10/19/2027&useCalSection=main
DTSTART:20271019T213000Z
DTEND:20271019T213000Z
DTSTAMP:20260419T100954
TRIGGER:-PT60M
END:VEVENT
END:VCALENDAR
