BEGIN:VCALENDAR
VERSION:2.0
CALSCALE:GREGORIAN
PRODID:UnionActive
BEGIN:VEVENT
UID:11838838@ibew2.org
SUMMARY:Crawford Electric Cooperative Unit Meeting
DESCRIPTION:Contact:  \nLink for more information: http://ibew2.org/index.cfm?zone=/unionactive/view_calendar.cfm&calendarID=11838838&thisdate=08/19/2025&useCalSection=main
LOCATION:
URL:http://ibew2.org/index.cfm?zone=/unionactive/view_calendar.cfm&calendarID=11838838&thisdate=08/19/2025&useCalSection=main
DTSTART:20250819T213000Z
DTEND:20250819T213000Z
DTSTAMP:20260419T133646
TRIGGER:-PT60M
END:VEVENT
END:VCALENDAR
