BEGIN:VCALENDAR
VERSION:2.0
CALSCALE:GREGORIAN
PRODID:UnionActive
BEGIN:VEVENT
UID:11838834@ibew2.org
SUMMARY:Crawford Electric Cooperative Unit Meeting
DESCRIPTION:Contact:  \nLink for more information: http://ibew2.org/index.cfm?zone=/unionactive/view_calendar.cfm&calendarID=11838834&thisdate=12/17/2024&useCalSection=main
LOCATION:
URL:http://ibew2.org/index.cfm?zone=/unionactive/view_calendar.cfm&calendarID=11838834&thisdate=12/17/2024&useCalSection=main
DTSTART:20241217T223000Z
DTEND:20241217T223000Z
DTSTAMP:20260419T115029
TRIGGER:-PT60M
END:VEVENT
END:VCALENDAR
