BEGIN:VCALENDAR
VERSION:2.0
CALSCALE:GREGORIAN
PRODID:UnionActive
BEGIN:VEVENT
UID:11838497@ibew2.org
SUMMARY:Hannibal BPW Unit Meeting
DESCRIPTION:Contact:  \nLink for more information: http://ibew2.org/index.cfm?zone=/unionactive/view_calendar.cfm&calendarID=11838497&thisdate=04/14/2044&useCalSection=main
LOCATION:
URL:http://ibew2.org/index.cfm?zone=/unionactive/view_calendar.cfm&calendarID=11838497&thisdate=04/14/2044&useCalSection=main
DTSTART:20440414T210000Z
DTEND:20440414T230000Z
DTSTAMP:20260419T183956
TRIGGER:-PT60M
END:VEVENT
END:VCALENDAR
