BEGIN:VCALENDAR
VERSION:2.0
CALSCALE:GREGORIAN
PRODID:UnionActive
BEGIN:VEVENT
UID:11838491@ibew2.org
SUMMARY:Hannibal BPW Unit Meeting
DESCRIPTION:Contact:  \nLink for more information: http://ibew2.org/index.cfm?zone=/unionactive/view_calendar.cfm&calendarID=11838491&thisdate=04/09/2043&useCalSection=main
LOCATION:
URL:http://ibew2.org/index.cfm?zone=/unionactive/view_calendar.cfm&calendarID=11838491&thisdate=04/09/2043&useCalSection=main
DTSTART:20430409T210000Z
DTEND:20430409T230000Z
DTSTAMP:20260419T151253
TRIGGER:-PT60M
END:VEVENT
END:VCALENDAR
