BEGIN:VCALENDAR
VERSION:2.0
CALSCALE:GREGORIAN
PRODID:UnionActive
BEGIN:VEVENT
UID:11838480@ibew2.org
SUMMARY:Hannibal BPW Unit Meeting
DESCRIPTION:Contact:  \nLink for more information: http://ibew2.org/index.cfm?zone=/unionactive/view_calendar.cfm&calendarID=11838480&thisdate=06/13/2041&useCalSection=main
LOCATION:
URL:http://ibew2.org/index.cfm?zone=/unionactive/view_calendar.cfm&calendarID=11838480&thisdate=06/13/2041&useCalSection=main
DTSTART:20410613T210000Z
DTEND:20410613T230000Z
DTSTAMP:20260419T215110
TRIGGER:-PT60M
END:VEVENT
END:VCALENDAR
