BEGIN:VCALENDAR
VERSION:2.0
CALSCALE:GREGORIAN
PRODID:UnionActive
BEGIN:VEVENT
UID:11838471@ibew2.org
SUMMARY:Hannibal BPW Unit Meeting
DESCRIPTION:Contact:  \nLink for more information: http://ibew2.org/index.cfm?zone=/unionactive/view_calendar.cfm&calendarID=11838471&thisdate=12/08/2039&useCalSection=main
LOCATION:
URL:http://ibew2.org/index.cfm?zone=/unionactive/view_calendar.cfm&calendarID=11838471&thisdate=12/08/2039&useCalSection=main
DTSTART:20391208T220000Z
DTEND:20391209T000000Z
DTSTAMP:20260419T234759
TRIGGER:-PT60M
END:VEVENT
END:VCALENDAR
