BEGIN:VCALENDAR
VERSION:2.0
CALSCALE:GREGORIAN
PRODID:UnionActive
BEGIN:VEVENT
UID:11838469@ibew2.org
SUMMARY:Hannibal BPW Unit Meeting
DESCRIPTION:Contact:  \nLink for more information: http://ibew2.org/index.cfm?zone=/unionactive/view_calendar.cfm&calendarID=11838469&thisdate=08/11/2039&useCalSection=main
LOCATION:
URL:http://ibew2.org/index.cfm?zone=/unionactive/view_calendar.cfm&calendarID=11838469&thisdate=08/11/2039&useCalSection=main
DTSTART:20390811T210000Z
DTEND:20390811T230000Z
DTSTAMP:20260419T064728
TRIGGER:-PT60M
END:VEVENT
END:VCALENDAR
