BEGIN:VCALENDAR
VERSION:2.0
CALSCALE:GREGORIAN
PRODID:UnionActive
BEGIN:VEVENT
UID:11838460@ibew2.org
SUMMARY:Hannibal BPW Unit Meeting
DESCRIPTION:Contact:  \nLink for more information: http://ibew2.org/index.cfm?zone=/unionactive/view_calendar.cfm&calendarID=11838460&thisdate=02/11/2038&useCalSection=main
LOCATION:
URL:http://ibew2.org/index.cfm?zone=/unionactive/view_calendar.cfm&calendarID=11838460&thisdate=02/11/2038&useCalSection=main
DTSTART:20380211T220000Z
DTEND:20380212T000000Z
DTSTAMP:20260419T132151
TRIGGER:-PT60M
END:VEVENT
END:VCALENDAR
