BEGIN:VCALENDAR
VERSION:2.0
CALSCALE:GREGORIAN
PRODID:UnionActive
BEGIN:VEVENT
UID:11838455@ibew2.org
SUMMARY:Hannibal BPW Unit Meeting
DESCRIPTION:Contact:  \nLink for more information: http://ibew2.org/index.cfm?zone=/unionactive/view_calendar.cfm&calendarID=11838455&thisdate=04/09/2037&useCalSection=main
LOCATION:
URL:http://ibew2.org/index.cfm?zone=/unionactive/view_calendar.cfm&calendarID=11838455&thisdate=04/09/2037&useCalSection=main
DTSTART:20370409T210000Z
DTEND:20370409T230000Z
DTSTAMP:20260419T200952
TRIGGER:-PT60M
END:VEVENT
END:VCALENDAR
