BEGIN:VCALENDAR
VERSION:2.0
CALSCALE:GREGORIAN
PRODID:UnionActive
BEGIN:VEVENT
UID:11838454@ibew2.org
SUMMARY:Hannibal BPW Unit Meeting
DESCRIPTION:Contact:  \nLink for more information: http://ibew2.org/index.cfm?zone=/unionactive/view_calendar.cfm&calendarID=11838454&thisdate=02/12/2037&useCalSection=main
LOCATION:
URL:http://ibew2.org/index.cfm?zone=/unionactive/view_calendar.cfm&calendarID=11838454&thisdate=02/12/2037&useCalSection=main
DTSTART:20370212T220000Z
DTEND:20370213T000000Z
DTSTAMP:20260419T165808
TRIGGER:-PT60M
END:VEVENT
END:VCALENDAR
