BEGIN:VCALENDAR
VERSION:2.0
CALSCALE:GREGORIAN
PRODID:UnionActive
BEGIN:VEVENT
UID:11838435@ibew2.org
SUMMARY:Hannibal BPW Unit Meeting
DESCRIPTION:Contact:  \nLink for more information: http://ibew2.org/index.cfm?zone=/unionactive/view_calendar.cfm&calendarID=11838435&thisdate=12/08/2033&useCalSection=main
LOCATION:
URL:http://ibew2.org/index.cfm?zone=/unionactive/view_calendar.cfm&calendarID=11838435&thisdate=12/08/2033&useCalSection=main
DTSTART:20331208T220000Z
DTEND:20331209T000000Z
DTSTAMP:20260419T183538
TRIGGER:-PT60M
END:VEVENT
END:VCALENDAR
