BEGIN:VCALENDAR
VERSION:2.0
CALSCALE:GREGORIAN
PRODID:UnionActive
BEGIN:VEVENT
UID:11838431@ibew2.org
SUMMARY:Hannibal BPW Unit Meeting
DESCRIPTION:Contact:  \nLink for more information: http://ibew2.org/index.cfm?zone=/unionactive/view_calendar.cfm&calendarID=11838431&thisdate=04/14/2033&useCalSection=main
LOCATION:
URL:http://ibew2.org/index.cfm?zone=/unionactive/view_calendar.cfm&calendarID=11838431&thisdate=04/14/2033&useCalSection=main
DTSTART:20330414T210000Z
DTEND:20330414T230000Z
DTSTAMP:20260419T182936
TRIGGER:-PT60M
END:VEVENT
END:VCALENDAR
