BEGIN:VCALENDAR
VERSION:2.0
CALSCALE:GREGORIAN
PRODID:UnionActive
BEGIN:VEVENT
UID:11838428@ibew2.org
SUMMARY:Hannibal BPW Unit Meeting
DESCRIPTION:Contact:  \nLink for more information: http://ibew2.org/index.cfm?zone=/unionactive/view_calendar.cfm&calendarID=11838428&thisdate=10/14/2032&useCalSection=main
LOCATION:
URL:http://ibew2.org/index.cfm?zone=/unionactive/view_calendar.cfm&calendarID=11838428&thisdate=10/14/2032&useCalSection=main
DTSTART:20321014T210000Z
DTEND:20321014T230000Z
DTSTAMP:20260419T183255
TRIGGER:-PT60M
END:VEVENT
END:VCALENDAR
