BEGIN:VCALENDAR
VERSION:2.0
CALSCALE:GREGORIAN
PRODID:UnionActive
BEGIN:VEVENT
UID:11838425@ibew2.org
SUMMARY:Hannibal BPW Unit Meeting
DESCRIPTION:Contact:  \nLink for more information: http://ibew2.org/index.cfm?zone=/unionactive/view_calendar.cfm&calendarID=11838425&thisdate=04/08/2032&useCalSection=main
LOCATION:
URL:http://ibew2.org/index.cfm?zone=/unionactive/view_calendar.cfm&calendarID=11838425&thisdate=04/08/2032&useCalSection=main
DTSTART:20320408T210000Z
DTEND:20320408T230000Z
DTSTAMP:20260419T200653
TRIGGER:-PT60M
END:VEVENT
END:VCALENDAR
