BEGIN:VCALENDAR
VERSION:2.0
CALSCALE:GREGORIAN
PRODID:UnionActive
BEGIN:VEVENT
UID:11838418@ibew2.org
SUMMARY:Hannibal BPW Unit Meeting
DESCRIPTION:Contact:  \nLink for more information: http://ibew2.org/index.cfm?zone=/unionactive/view_calendar.cfm&calendarID=11838418&thisdate=02/13/2031&useCalSection=main
LOCATION:
URL:http://ibew2.org/index.cfm?zone=/unionactive/view_calendar.cfm&calendarID=11838418&thisdate=02/13/2031&useCalSection=main
DTSTART:20310213T220000Z
DTEND:20310214T000000Z
DTSTAMP:20260419T100310
TRIGGER:-PT60M
END:VEVENT
END:VCALENDAR
