BEGIN:VCALENDAR
VERSION:2.0
CALSCALE:GREGORIAN
PRODID:UnionActive
BEGIN:VEVENT
UID:11838414@ibew2.org
SUMMARY:Hannibal BPW Unit Meeting
DESCRIPTION:Contact:  \nLink for more information: http://ibew2.org/index.cfm?zone=/unionactive/view_calendar.cfm&calendarID=11838414&thisdate=06/13/2030&useCalSection=main
LOCATION:
URL:http://ibew2.org/index.cfm?zone=/unionactive/view_calendar.cfm&calendarID=11838414&thisdate=06/13/2030&useCalSection=main
DTSTART:20300613T210000Z
DTEND:20300613T230000Z
DTSTAMP:20260419T214350
TRIGGER:-PT60M
END:VEVENT
END:VCALENDAR
