BEGIN:VCALENDAR
VERSION:2.0
CALSCALE:GREGORIAN
PRODID:UnionActive
BEGIN:VEVENT
UID:11838410@ibew2.org
SUMMARY:Hannibal BPW Unit Meeting
DESCRIPTION:Contact:  \nLink for more information: http://ibew2.org/index.cfm?zone=/unionactive/view_calendar.cfm&calendarID=11838410&thisdate=10/11/2029&useCalSection=main
LOCATION:
URL:http://ibew2.org/index.cfm?zone=/unionactive/view_calendar.cfm&calendarID=11838410&thisdate=10/11/2029&useCalSection=main
DTSTART:20291011T210000Z
DTEND:20291011T230000Z
DTSTAMP:20260419T114626
TRIGGER:-PT60M
END:VEVENT
END:VCALENDAR
