BEGIN:VCALENDAR
VERSION:2.0
CALSCALE:GREGORIAN
PRODID:UnionActive
BEGIN:VEVENT
UID:11838406@ibew2.org
SUMMARY:Hannibal BPW Unit Meeting
DESCRIPTION:Contact:  \nLink for more information: http://ibew2.org/index.cfm?zone=/unionactive/view_calendar.cfm&calendarID=11838406&thisdate=02/08/2029&useCalSection=main
LOCATION:
URL:http://ibew2.org/index.cfm?zone=/unionactive/view_calendar.cfm&calendarID=11838406&thisdate=02/08/2029&useCalSection=main
DTSTART:20290208T220000Z
DTEND:20290209T000000Z
DTSTAMP:20260419T201234
TRIGGER:-PT60M
END:VEVENT
END:VCALENDAR
