BEGIN:VCALENDAR
VERSION:2.0
CALSCALE:GREGORIAN
PRODID:UnionActive
BEGIN:VEVENT
UID:11838405@ibew2.org
SUMMARY:Hannibal BPW Unit Meeting
DESCRIPTION:Contact:  \nLink for more information: http://ibew2.org/index.cfm?zone=/unionactive/view_calendar.cfm&calendarID=11838405&thisdate=12/14/2028&useCalSection=main
LOCATION:
URL:http://ibew2.org/index.cfm?zone=/unionactive/view_calendar.cfm&calendarID=11838405&thisdate=12/14/2028&useCalSection=main
DTSTART:20281214T220000Z
DTEND:20281215T000000Z
DTSTAMP:20260419T164807
TRIGGER:-PT60M
END:VEVENT
END:VCALENDAR
