BEGIN:VCALENDAR
VERSION:2.0
CALSCALE:GREGORIAN
PRODID:UnionActive
BEGIN:VEVENT
UID:11838393@ibew2.org
SUMMARY:Hannibal BPW Unit Meeting
DESCRIPTION:Contact:  \nLink for more information: http://ibew2.org/index.cfm?zone=/unionactive/view_calendar.cfm&calendarID=11838393&thisdate=12/10/2026&useCalSection=main
LOCATION:
URL:http://ibew2.org/index.cfm?zone=/unionactive/view_calendar.cfm&calendarID=11838393&thisdate=12/10/2026&useCalSection=main
DTSTART:20261210T220000Z
DTEND:20261211T000000Z
DTSTAMP:20260419T132508
TRIGGER:-PT60M
END:VEVENT
END:VCALENDAR
