BEGIN:VCALENDAR
VERSION:2.0
CALSCALE:GREGORIAN
PRODID:UnionActive
BEGIN:VEVENT
UID:11838382@ibew2.org
SUMMARY:Hannibal BPW Unit Meeting
DESCRIPTION:Contact:  \nLink for more information: http://ibew2.org/index.cfm?zone=/unionactive/view_calendar.cfm&calendarID=11838382&thisdate=02/13/2025&useCalSection=main
LOCATION:
URL:http://ibew2.org/index.cfm?zone=/unionactive/view_calendar.cfm&calendarID=11838382&thisdate=02/13/2025&useCalSection=main
DTSTART:20250213T220000Z
DTEND:20250214T000000Z
DTSTAMP:20260419T082929
TRIGGER:-PT60M
END:VEVENT
END:VCALENDAR
